BEGIN:VCALENDAR
VERSION:2.0
PRODID:-//The Bridges Golf Club - ECPv6.15.18//NONSGML v1.0//EN
CALSCALE:GREGORIAN
METHOD:PUBLISH
X-ORIGINAL-URL:https://www.thebridgesgolf.com
X-WR-CALDESC:Events for The Bridges Golf Club
REFRESH-INTERVAL;VALUE=DURATION:PT1H
X-Robots-Tag:noindex
X-PUBLISHED-TTL:PT1H
BEGIN:VTIMEZONE
TZID:America/Los_Angeles
BEGIN:DAYLIGHT
TZOFFSETFROM:-0800
TZOFFSETTO:-0700
TZNAME:PDT
DTSTART:20240310T100000
END:DAYLIGHT
BEGIN:STANDARD
TZOFFSETFROM:-0700
TZOFFSETTO:-0800
TZNAME:PST
DTSTART:20241103T090000
END:STANDARD
BEGIN:DAYLIGHT
TZOFFSETFROM:-0800
TZOFFSETTO:-0700
TZNAME:PDT
DTSTART:20250309T100000
END:DAYLIGHT
BEGIN:STANDARD
TZOFFSETFROM:-0700
TZOFFSETTO:-0800
TZNAME:PST
DTSTART:20251102T090000
END:STANDARD
BEGIN:DAYLIGHT
TZOFFSETFROM:-0800
TZOFFSETTO:-0700
TZNAME:PDT
DTSTART:20260308T100000
END:DAYLIGHT
BEGIN:STANDARD
TZOFFSETFROM:-0700
TZOFFSETTO:-0800
TZNAME:PST
DTSTART:20261101T090000
END:STANDARD
END:VTIMEZONE
BEGIN:VEVENT
DTSTART;TZID=America/Los_Angeles:20251127T083000
DTEND;TZID=America/Los_Angeles:20251127T083000
DTSTAMP:20260421T150358
CREATED:20250728T194256Z
LAST-MODIFIED:20251027T162200Z
UID:10000023-1764232200-1764232200@www.thebridgesgolf.com
SUMMARY:Thanksgiving Shotgun
DESCRIPTION:
URL:https://www.thebridgesgolf.com/event/thanksgiving-shotgun/
CATEGORIES:Golf Events
ATTACH;FMTTYPE=image/png:https://www.thebridgesgolf.com/wp-content/uploads/sites/8298/2025/10/Thanksgiving-Shotgun-flyer.png
END:VEVENT
BEGIN:VEVENT
DTSTART;TZID=America/Los_Angeles:20251115T083000
DTEND;TZID=America/Los_Angeles:20251115T083000
DTSTAMP:20260421T150358
CREATED:20250728T194215Z
LAST-MODIFIED:20250728T194215Z
UID:10000022-1763195400-1763195400@www.thebridgesgolf.com
SUMMARY:Mens Club Golf
DESCRIPTION:
URL:https://www.thebridgesgolf.com/event/mens-club-golf-5/
CATEGORIES:Golf Events
END:VEVENT
BEGIN:VEVENT
DTSTART;TZID=America/Los_Angeles:20251025T083000
DTEND;TZID=America/Los_Angeles:20251025T083000
DTSTAMP:20260421T150358
CREATED:20250728T194150Z
LAST-MODIFIED:20250728T194150Z
UID:10000021-1761381000-1761381000@www.thebridgesgolf.com
SUMMARY:Mens Club Golf
DESCRIPTION:
URL:https://www.thebridgesgolf.com/event/mens-club-golf-4/
CATEGORIES:Golf Events
END:VEVENT
BEGIN:VEVENT
DTSTART;TZID=America/Los_Angeles:20251021T093000
DTEND;TZID=America/Los_Angeles:20251021T093000
DTSTAMP:20260421T150358
CREATED:20250728T194103Z
LAST-MODIFIED:20250728T194122Z
UID:10000020-1761039000-1761039000@www.thebridgesgolf.com
SUMMARY:SIRS 128 Golf
DESCRIPTION:
URL:https://www.thebridgesgolf.com/event/sirs-128-golf-2/
CATEGORIES:Golf Events
END:VEVENT
BEGIN:VEVENT
DTSTART;TZID=America/Los_Angeles:20250920T083000
DTEND;TZID=America/Los_Angeles:20250920T083000
DTSTAMP:20260421T150358
CREATED:20250728T193910Z
LAST-MODIFIED:20250728T193919Z
UID:10000017-1758357000-1758357000@www.thebridgesgolf.com
SUMMARY:Mens Club Golf
DESCRIPTION:
URL:https://www.thebridgesgolf.com/event/mens-club-golf-3/
CATEGORIES:Golf Events
END:VEVENT
BEGIN:VEVENT
DTSTART;TZID=America/Los_Angeles:20250920T083000
DTEND;TZID=America/Los_Angeles:20250920T083000
DTSTAMP:20260421T150358
CREATED:20250728T193846Z
LAST-MODIFIED:20250728T193947Z
UID:10000016-1758357000-1758357000@www.thebridgesgolf.com
SUMMARY:Mens Club Golf
DESCRIPTION:
URL:https://www.thebridgesgolf.com/event/mens-club-golf-2/
CATEGORIES:Golf Events
END:VEVENT
BEGIN:VEVENT
DTSTART;TZID=America/Los_Angeles:20250916T093000
DTEND;TZID=America/Los_Angeles:20250916T093000
DTSTAMP:20260421T150358
CREATED:20250728T193810Z
LAST-MODIFIED:20250728T193943Z
UID:10000015-1758015000-1758015000@www.thebridgesgolf.com
SUMMARY:SIRS 128 Golf
DESCRIPTION:
URL:https://www.thebridgesgolf.com/event/sirs-128-golf/
CATEGORIES:Golf Events
END:VEVENT
BEGIN:VEVENT
DTSTART;TZID=America/Los_Angeles:20250816T080000
DTEND;TZID=America/Los_Angeles:20250816T080000
DTSTAMP:20260421T150358
CREATED:20250728T193709Z
LAST-MODIFIED:20250728T193709Z
UID:10000013-1755331200-1755331200@www.thebridgesgolf.com
SUMMARY:Mens Club Golf
DESCRIPTION:
URL:https://www.thebridgesgolf.com/event/mens-club-golf/
CATEGORIES:Golf Events
END:VEVENT
BEGIN:VEVENT
DTSTART;VALUE=DATE:20250814
DTEND;VALUE=DATE:20250815
DTSTAMP:20260421T150358
CREATED:20250728T193629Z
LAST-MODIFIED:20250728T193629Z
UID:10000012-1755129600-1755215999@www.thebridgesgolf.com
SUMMARY:Bridges Seniors Golf
DESCRIPTION:
URL:https://www.thebridgesgolf.com/event/bridges-seniors-golf/
CATEGORIES:Golf Events
END:VEVENT
BEGIN:VEVENT
DTSTART;VALUE=DATE:20250807
DTEND;VALUE=DATE:20250808
DTSTAMP:20260421T150358
CREATED:20250728T193008Z
LAST-MODIFIED:20250728T193008Z
UID:10000011-1754524800-1754611199@www.thebridgesgolf.com
SUMMARY:Bridges Member/Guest Golf
DESCRIPTION:
URL:https://www.thebridgesgolf.com/event/bridges-member-guest-golf/
CATEGORIES:Golf Events
END:VEVENT
BEGIN:VEVENT
DTSTART;TZID=America/Los_Angeles:20250801T100000
DTEND;TZID=America/Los_Angeles:20250801T100000
DTSTAMP:20260421T150358
CREATED:20250728T192701Z
LAST-MODIFIED:20250728T192818Z
UID:10000009-1754042400-1754042400@www.thebridgesgolf.com
SUMMARY:Falcon Cup Golf
DESCRIPTION:
URL:https://www.thebridgesgolf.com/event/falcon-cup-golf/
CATEGORIES:Golf Events
END:VEVENT
BEGIN:VEVENT
DTSTART;TZID=America/Los_Angeles:20250731T093000
DTEND;TZID=America/Los_Angeles:20250731T093000
DTSTAMP:20260421T150358
CREATED:20250728T192524Z
LAST-MODIFIED:20250728T194332Z
UID:10000010-1753954200-1753954200@www.thebridgesgolf.com
SUMMARY:SIRS 35 Golf
DESCRIPTION:
URL:https://www.thebridgesgolf.com/event/sirs-35/
CATEGORIES:Golf Events
END:VEVENT
END:VCALENDAR