BEGIN:VCALENDAR
VERSION:2.0
PRODID:-//The Bridges Golf Club - ECPv6.15.18//NONSGML v1.0//EN
CALSCALE:GREGORIAN
METHOD:PUBLISH
X-WR-CALNAME:The Bridges Golf Club
X-ORIGINAL-URL:https://www.thebridgesgolf.com
X-WR-CALDESC:Events for The Bridges Golf Club
REFRESH-INTERVAL;VALUE=DURATION:PT1H
X-Robots-Tag:noindex
X-PUBLISHED-TTL:PT1H
BEGIN:VTIMEZONE
TZID:America/Los_Angeles
BEGIN:DAYLIGHT
TZOFFSETFROM:-0800
TZOFFSETTO:-0700
TZNAME:PDT
DTSTART:20240310T100000
END:DAYLIGHT
BEGIN:STANDARD
TZOFFSETFROM:-0700
TZOFFSETTO:-0800
TZNAME:PST
DTSTART:20241103T090000
END:STANDARD
BEGIN:DAYLIGHT
TZOFFSETFROM:-0800
TZOFFSETTO:-0700
TZNAME:PDT
DTSTART:20250309T100000
END:DAYLIGHT
BEGIN:STANDARD
TZOFFSETFROM:-0700
TZOFFSETTO:-0800
TZNAME:PST
DTSTART:20251102T090000
END:STANDARD
BEGIN:DAYLIGHT
TZOFFSETFROM:-0800
TZOFFSETTO:-0700
TZNAME:PDT
DTSTART:20260308T100000
END:DAYLIGHT
BEGIN:STANDARD
TZOFFSETFROM:-0700
TZOFFSETTO:-0800
TZNAME:PST
DTSTART:20261101T090000
END:STANDARD
BEGIN:DAYLIGHT
TZOFFSETFROM:-0800
TZOFFSETTO:-0700
TZNAME:PDT
DTSTART:20270314T100000
END:DAYLIGHT
BEGIN:STANDARD
TZOFFSETFROM:-0700
TZOFFSETTO:-0800
TZNAME:PST
DTSTART:20271107T090000
END:STANDARD
END:VTIMEZONE
BEGIN:VEVENT
DTSTART;TZID=America/Los_Angeles:20260124T080000
DTEND;TZID=America/Los_Angeles:20260124T160000
DTSTAMP:20260421T050937
CREATED:20260121T013554Z
LAST-MODIFIED:20260121T013554Z
UID:10000475-1769241600-1769270400@www.thebridgesgolf.com
SUMMARY:The View & Bar Hours
DESCRIPTION:
URL:https://www.thebridgesgolf.com/event/the-view-bar-hours-45/
CATEGORIES:Dining Events
END:VEVENT
BEGIN:VEVENT
DTSTART;TZID=America/Los_Angeles:20260123T080000
DTEND;TZID=America/Los_Angeles:20260123T163000
DTSTAMP:20260421T050937
CREATED:20260121T013530Z
LAST-MODIFIED:20260121T013530Z
UID:10000474-1769155200-1769185800@www.thebridgesgolf.com
SUMMARY:The View & Bar Hours
DESCRIPTION:
URL:https://www.thebridgesgolf.com/event/the-view-bar-hours-44/
CATEGORIES:Dining Events
END:VEVENT
BEGIN:VEVENT
DTSTART;TZID=America/Los_Angeles:20260122T080000
DTEND;TZID=America/Los_Angeles:20260122T163000
DTSTAMP:20260421T050937
CREATED:20260121T013509Z
LAST-MODIFIED:20260121T013509Z
UID:10000473-1769068800-1769099400@www.thebridgesgolf.com
SUMMARY:The View & Bar Hours
DESCRIPTION:
URL:https://www.thebridgesgolf.com/event/the-view-bar-hours-43/
CATEGORIES:Dining Events
END:VEVENT
BEGIN:VEVENT
DTSTART;VALUE=DATE:20260121
DTEND;VALUE=DATE:20260122
DTSTAMP:20260421T050937
CREATED:20260121T013351Z
LAST-MODIFIED:20260121T013426Z
UID:10000472-1768953600-1769039999@www.thebridgesgolf.com
SUMMARY:The View & Bar Closed for Private Event
DESCRIPTION:
URL:https://www.thebridgesgolf.com/event/the-view-bar-closed-for-private-event-2/
CATEGORIES:Dining Events
END:VEVENT
BEGIN:VEVENT
DTSTART;TZID=America/Los_Angeles:20251227T080000
DTEND;TZID=America/Los_Angeles:20251227T163000
DTSTAMP:20260421T050937
CREATED:20251218T010734Z
LAST-MODIFIED:20251218T010734Z
UID:10000470-1766822400-1766853000@www.thebridgesgolf.com
SUMMARY:The View & Bar Hours
DESCRIPTION:
URL:https://www.thebridgesgolf.com/event/the-view-bar-hours-41/
CATEGORIES:Dining Events
END:VEVENT
BEGIN:VEVENT
DTSTART;TZID=America/Los_Angeles:20251226T080000
DTEND;TZID=America/Los_Angeles:20251226T163000
DTSTAMP:20260421T050938
CREATED:20251218T010619Z
LAST-MODIFIED:20251218T010709Z
UID:10000469-1766736000-1766766600@www.thebridgesgolf.com
SUMMARY:The View & Bar Hours
DESCRIPTION:
URL:https://www.thebridgesgolf.com/event/the-view-bar-hours-40/
CATEGORIES:Dining Events
END:VEVENT
BEGIN:VEVENT
DTSTART;VALUE=DATE:20251225
DTEND;VALUE=DATE:20251226
DTSTAMP:20260421T050938
CREATED:20251218T010511Z
LAST-MODIFIED:20251218T010511Z
UID:10000468-1766620800-1766707199@www.thebridgesgolf.com
SUMMARY:The View & Bar Closed Christmas Day
DESCRIPTION:
URL:https://www.thebridgesgolf.com/event/the-view-bar-closed-christmas-day/
CATEGORIES:Dining Events
END:VEVENT
BEGIN:VEVENT
DTSTART;TZID=America/Los_Angeles:20251224T080000
DTEND;TZID=America/Los_Angeles:20251224T140000
DTSTAMP:20260421T050938
CREATED:20251218T010432Z
LAST-MODIFIED:20251218T010432Z
UID:10000467-1766563200-1766584800@www.thebridgesgolf.com
SUMMARY:The View & Bar Hours
DESCRIPTION:
URL:https://www.thebridgesgolf.com/event/the-view-bar-hours-39/
CATEGORIES:Dining Events
END:VEVENT
BEGIN:VEVENT
DTSTART;TZID=America/Los_Angeles:20251223T080000
DTEND;TZID=America/Los_Angeles:20251223T163000
DTSTAMP:20260421T050938
CREATED:20251218T010406Z
LAST-MODIFIED:20251218T010406Z
UID:10000466-1766476800-1766507400@www.thebridgesgolf.com
SUMMARY:The View & Bar Hours
DESCRIPTION:
URL:https://www.thebridgesgolf.com/event/the-view-bar-hours-38/
CATEGORIES:Dining Events
END:VEVENT
BEGIN:VEVENT
DTSTART;TZID=America/Los_Angeles:20251222T080000
DTEND;TZID=America/Los_Angeles:20251222T163000
DTSTAMP:20260421T050938
CREATED:20251218T010150Z
LAST-MODIFIED:20251218T010212Z
UID:10000464-1766390400-1766421000@www.thebridgesgolf.com
SUMMARY:The View & Bar Hours
DESCRIPTION:
URL:https://www.thebridgesgolf.com/event/the-view-bar-hours-36/
CATEGORIES:Dining Events
END:VEVENT
BEGIN:VEVENT
DTSTART;TZID=America/Los_Angeles:20251220T080000
DTEND;TZID=America/Los_Angeles:20251220T163000
DTSTAMP:20260421T050938
CREATED:20251218T010330Z
LAST-MODIFIED:20251218T010330Z
UID:10000465-1766217600-1766248200@www.thebridgesgolf.com
SUMMARY:The View & Bar Hours
DESCRIPTION:
URL:https://www.thebridgesgolf.com/event/the-view-bar-hours-37/
CATEGORIES:Dining Events
END:VEVENT
BEGIN:VEVENT
DTSTART;TZID=America/Los_Angeles:20251219T080000
DTEND;TZID=America/Los_Angeles:20251219T163000
DTSTAMP:20260421T050938
CREATED:20251218T010130Z
LAST-MODIFIED:20251218T010130Z
UID:10000463-1766131200-1766161800@www.thebridgesgolf.com
SUMMARY:The View & Bar Hours
DESCRIPTION:
URL:https://www.thebridgesgolf.com/event/the-view-bar-hours-35/
CATEGORIES:Dining Events
END:VEVENT
BEGIN:VEVENT
DTSTART;TZID=America/Los_Angeles:20251218T080000
DTEND;TZID=America/Los_Angeles:20251218T163000
DTSTAMP:20260421T050938
CREATED:20251218T010111Z
LAST-MODIFIED:20251218T010111Z
UID:10000462-1766044800-1766075400@www.thebridgesgolf.com
SUMMARY:The View & Bar Hours
DESCRIPTION:
URL:https://www.thebridgesgolf.com/event/the-view-bar-hours-34/
CATEGORIES:Dining Events
END:VEVENT
BEGIN:VEVENT
DTSTART;TZID=America/Los_Angeles:20251027T080000
DTEND;TZID=America/Los_Angeles:20251027T140000
DTSTAMP:20260421T050938
CREATED:20251021T173407Z
LAST-MODIFIED:20251021T173407Z
UID:10000450-1761552000-1761573600@www.thebridgesgolf.com
SUMMARY:The View & Bar Hours
DESCRIPTION:
URL:https://www.thebridgesgolf.com/event/the-view-bar-hours-33/
CATEGORIES:Dining Events
END:VEVENT
BEGIN:VEVENT
DTSTART;TZID=America/Los_Angeles:20251025T080000
DTEND;TZID=America/Los_Angeles:20251025T140000
DTSTAMP:20260421T050938
CREATED:20251021T173350Z
LAST-MODIFIED:20251021T173350Z
UID:10000449-1761379200-1761400800@www.thebridgesgolf.com
SUMMARY:The View & Bar Hours
DESCRIPTION:
URL:https://www.thebridgesgolf.com/event/the-view-bar-hours-32/
CATEGORIES:Dining Events
END:VEVENT
BEGIN:VEVENT
DTSTART;VALUE=DATE:20251024
DTEND;VALUE=DATE:20251025
DTSTAMP:20260421T050938
CREATED:20251021T173250Z
LAST-MODIFIED:20251021T173250Z
UID:10000446-1761264000-1761350399@www.thebridgesgolf.com
SUMMARY:The View & Bar (Closed for Private Event)
DESCRIPTION:Closed for Private Event
URL:https://www.thebridgesgolf.com/event/the-view-bar-closed-for-private-event/
CATEGORIES:Dining Events
END:VEVENT
BEGIN:VEVENT
DTSTART;TZID=America/Los_Angeles:20251023T080000
DTEND;TZID=America/Los_Angeles:20251023T163000
DTSTAMP:20260421T050938
CREATED:20251021T173331Z
LAST-MODIFIED:20251021T173331Z
UID:10000448-1761206400-1761237000@www.thebridgesgolf.com
SUMMARY:The View & Bar Hours
DESCRIPTION:
URL:https://www.thebridgesgolf.com/event/the-view-bar-hours-31/
CATEGORIES:Dining Events
END:VEVENT
BEGIN:VEVENT
DTSTART;TZID=America/Los_Angeles:20251022T080000
DTEND;TZID=America/Los_Angeles:20251022T140000
DTSTAMP:20260421T050938
CREATED:20251021T173305Z
LAST-MODIFIED:20251021T173305Z
UID:10000447-1761120000-1761141600@www.thebridgesgolf.com
SUMMARY:The View & Bar Hours
DESCRIPTION:
URL:https://www.thebridgesgolf.com/event/the-view-bar-hours-30/
CATEGORIES:Dining Events
END:VEVENT
BEGIN:VEVENT
DTSTART;TZID=America/Los_Angeles:20251015T080000
DTEND;TZID=America/Los_Angeles:20251015T160000
DTSTAMP:20260421T050938
CREATED:20251006T163507Z
LAST-MODIFIED:20251006T163507Z
UID:10000445-1760515200-1760544000@www.thebridgesgolf.com
SUMMARY:The View & Bar Hours
DESCRIPTION:
URL:https://www.thebridgesgolf.com/event/the-view-bar-hours-29/
CATEGORIES:Dining Events
END:VEVENT
BEGIN:VEVENT
DTSTART;TZID=America/Los_Angeles:20251012T080000
DTEND;TZID=America/Los_Angeles:20251012T163000
DTSTAMP:20260421T050938
CREATED:20251006T163445Z
LAST-MODIFIED:20251006T163445Z
UID:10000444-1760256000-1760286600@www.thebridgesgolf.com
SUMMARY:The View & Bar Hours
DESCRIPTION:
URL:https://www.thebridgesgolf.com/event/the-view-bar-hours-28/
CATEGORIES:Dining Events
END:VEVENT
BEGIN:VEVENT
DTSTART;TZID=America/Los_Angeles:20251011T080000
DTEND;TZID=America/Los_Angeles:20251011T140000
DTSTAMP:20260421T050938
CREATED:20251006T163425Z
LAST-MODIFIED:20251006T163425Z
UID:10000443-1760169600-1760191200@www.thebridgesgolf.com
SUMMARY:The View & Bar Hours
DESCRIPTION:
URL:https://www.thebridgesgolf.com/event/the-view-bar-hours-27/
CATEGORIES:Dining Events
END:VEVENT
BEGIN:VEVENT
DTSTART;TZID=America/Los_Angeles:20251010T080000
DTEND;TZID=America/Los_Angeles:20251010T150000
DTSTAMP:20260421T050938
CREATED:20251006T163359Z
LAST-MODIFIED:20251006T163359Z
UID:10000442-1760083200-1760108400@www.thebridgesgolf.com
SUMMARY:The View & Bar Hours
DESCRIPTION:
URL:https://www.thebridgesgolf.com/event/the-view-bar-hours-26/
CATEGORIES:Dining Events
END:VEVENT
BEGIN:VEVENT
DTSTART;VALUE=DATE:20251009
DTEND;VALUE=DATE:20251010
DTSTAMP:20260421T050938
CREATED:20251006T160632Z
LAST-MODIFIED:20251006T163559Z
UID:10000441-1759968000-1760054399@www.thebridgesgolf.com
SUMMARY:The View & Bar (Closed for Private Event)
DESCRIPTION:Closed for Private Event
URL:https://www.thebridgesgolf.com/event/closed-for-private-event/
CATEGORIES:Dining Events
END:VEVENT
BEGIN:VEVENT
DTSTART;VALUE=DATE:20251006
DTEND;VALUE=DATE:20251007
DTSTAMP:20260421T050938
CREATED:20250922T195657Z
LAST-MODIFIED:20250922T202930Z
UID:10000437-1759708800-1759795199@www.thebridgesgolf.com
SUMMARY:The View & Bar Closed All Day
DESCRIPTION:Closed For a Private Event
URL:https://www.thebridgesgolf.com/event/the-view-bar-hours-25/
CATEGORIES:Dining Events
END:VEVENT
BEGIN:VEVENT
DTSTART;TZID=America/Los_Angeles:20251002T080000
DTEND;TZID=America/Los_Angeles:20251002T150000
DTSTAMP:20260421T050938
CREATED:20250922T195634Z
LAST-MODIFIED:20250922T195634Z
UID:10000436-1759392000-1759417200@www.thebridgesgolf.com
SUMMARY:The View & Bar Hours
DESCRIPTION:
URL:https://www.thebridgesgolf.com/event/the-view-bar-hours-24/
CATEGORIES:Dining Events
END:VEVENT
BEGIN:VEVENT
DTSTART;TZID=America/Los_Angeles:20250929T080000
DTEND;TZID=America/Los_Angeles:20250929T163000
DTSTAMP:20260421T050938
CREATED:20250922T195608Z
LAST-MODIFIED:20250922T195608Z
UID:10000435-1759132800-1759163400@www.thebridgesgolf.com
SUMMARY:The View & Bar Hours
DESCRIPTION:
URL:https://www.thebridgesgolf.com/event/the-view-bar-hours-23/
CATEGORIES:Dining Events
END:VEVENT
BEGIN:VEVENT
DTSTART;TZID=America/Los_Angeles:20250927T110000
DTEND;TZID=America/Los_Angeles:20250927T160000
DTSTAMP:20260421T050938
CREATED:20250922T195458Z
LAST-MODIFIED:20250922T195539Z
UID:10000434-1758970800-1758988800@www.thebridgesgolf.com
SUMMARY:The View & Bar Hours
DESCRIPTION:
URL:https://www.thebridgesgolf.com/event/the-view-bar-hours-22/
CATEGORIES:Dining Events
END:VEVENT
BEGIN:VEVENT
DTSTART;VALUE=DATE:20250926
DTEND;VALUE=DATE:20250927
DTSTAMP:20260421T050938
CREATED:20250916T162143Z
LAST-MODIFIED:20250922T202921Z
UID:10000432-1758844800-1758931199@www.thebridgesgolf.com
SUMMARY:The View & Bar Closed All Day
DESCRIPTION:Closed For a Private Event
URL:https://www.thebridgesgolf.com/event/the-view-bar-hours-20/
CATEGORIES:Dining Events
END:VEVENT
BEGIN:VEVENT
DTSTART;TZID=America/Los_Angeles:20250924T080000
DTEND;TZID=America/Los_Angeles:20250924T160000
DTSTAMP:20260421T050938
CREATED:20250916T162231Z
LAST-MODIFIED:20250922T192148Z
UID:10000433-1758700800-1758729600@www.thebridgesgolf.com
SUMMARY:The View & Bar Hours
DESCRIPTION:
URL:https://www.thebridgesgolf.com/event/the-view-bar-hours-21/
CATEGORIES:Dining Events
END:VEVENT
BEGIN:VEVENT
DTSTART;TZID=America/Los_Angeles:20250918T080000
DTEND;TZID=America/Los_Angeles:20250918T143000
DTSTAMP:20260421T050938
CREATED:20250916T162101Z
LAST-MODIFIED:20250916T162101Z
UID:10000431-1758182400-1758205800@www.thebridgesgolf.com
SUMMARY:The View & Bar Hours
DESCRIPTION:
URL:https://www.thebridgesgolf.com/event/the-view-bar-hours-19/
CATEGORIES:Dining Events
END:VEVENT
END:VCALENDAR